BEGIN:VCALENDAR
VERSION:2.0
PRODID:-//1.Essener Judo-Club 1950 e.V. - ECPv6.15.17.1//NONSGML v1.0//EN
CALSCALE:GREGORIAN
METHOD:PUBLISH
X-ORIGINAL-URL:https://erster-essener-judoclub.de
X-WR-CALDESC:Veranstaltungen für 1.Essener Judo-Club 1950 e.V.
REFRESH-INTERVAL;VALUE=DURATION:PT1H
X-Robots-Tag:noindex
X-PUBLISHED-TTL:PT1H
BEGIN:VTIMEZONE
TZID:Europe/Berlin
BEGIN:DAYLIGHT
TZOFFSETFROM:+0100
TZOFFSETTO:+0200
TZNAME:CEST
DTSTART:20230326T010000
END:DAYLIGHT
BEGIN:STANDARD
TZOFFSETFROM:+0200
TZOFFSETTO:+0100
TZNAME:CET
DTSTART:20231029T010000
END:STANDARD
BEGIN:DAYLIGHT
TZOFFSETFROM:+0100
TZOFFSETTO:+0200
TZNAME:CEST
DTSTART:20240331T010000
END:DAYLIGHT
BEGIN:STANDARD
TZOFFSETFROM:+0200
TZOFFSETTO:+0100
TZNAME:CET
DTSTART:20241027T010000
END:STANDARD
BEGIN:DAYLIGHT
TZOFFSETFROM:+0100
TZOFFSETTO:+0200
TZNAME:CEST
DTSTART:20250330T010000
END:DAYLIGHT
BEGIN:STANDARD
TZOFFSETFROM:+0200
TZOFFSETTO:+0100
TZNAME:CET
DTSTART:20251026T010000
END:STANDARD
END:VTIMEZONE
BEGIN:VEVENT
DTSTART;TZID=Europe/Berlin:20241209T170000
DTEND;TZID=Europe/Berlin:20241209T200000
DTSTAMP:20260423T231211
CREATED:20241124T215113Z
LAST-MODIFIED:20241124T215113Z
UID:685-1733763600-1733774400@erster-essener-judoclub.de
SUMMARY:Gürtelprüfung
DESCRIPTION:Am Montag\, den 09.12 findet die letzte Gürtelprüfung dieses Jahres statt. \nPrüfungsbeginn: 17.30 Uhr \nWir bitten alle Prüflinge/Partner\, Eltern/Familie\, Freunde & andere ZuschauerInnen um 17 Uhr an der Halle zu sein\, um pünktlich starten zu können. \n 
URL:https://erster-essener-judoclub.de/event/guertelpruefung/
CATEGORIES:Gürtelprüfung
END:VEVENT
BEGIN:VEVENT
DTSTART;TZID=Europe/Berlin:20241214T000000
DTEND;TZID=Europe/Berlin:20241215T000000
DTSTAMP:20260423T231212
CREATED:20241113T123018Z
LAST-MODIFIED:20241125T104027Z
UID:673-1734134400-1734220800@erster-essener-judoclub.de
SUMMARY:Stadtmeisterschaft Essen 2024
DESCRIPTION:Die diesjährige Judo-Stadtmeisterschaft findet am 14.12. und 15.12.2024 in der Turnhalle des Don-Bosco-Gymnasium in Essen Borbeck statt. Folgende Altersklassen können an dieser Maßnahme teilnehmen. u11 m+w /u13 m+w/ u15 m+w/ u18 m+w/ Männer & Frauen.
URL:https://erster-essener-judoclub.de/event/stadtmeisterschaft-essen-2024/
LOCATION:Don-Bosco-Gymnasium\, Theodor-Hartz-Straße 15\, 45355 Essen\, Essen\, Germany
END:VEVENT
END:VCALENDAR