BEGIN:VCALENDAR
VERSION:2.0
PRODID:-//1.Essener Judo-Club 1950 e.V. - ECPv6.15.17.1//NONSGML v1.0//EN
CALSCALE:GREGORIAN
METHOD:PUBLISH
X-ORIGINAL-URL:https://erster-essener-judoclub.de
X-WR-CALDESC:Veranstaltungen für 1.Essener Judo-Club 1950 e.V.
REFRESH-INTERVAL;VALUE=DURATION:PT1H
X-Robots-Tag:noindex
X-PUBLISHED-TTL:PT1H
BEGIN:VTIMEZONE
TZID:Europe/Berlin
BEGIN:DAYLIGHT
TZOFFSETFROM:+0100
TZOFFSETTO:+0200
TZNAME:CEST
DTSTART:20230326T010000
END:DAYLIGHT
BEGIN:STANDARD
TZOFFSETFROM:+0200
TZOFFSETTO:+0100
TZNAME:CET
DTSTART:20231029T010000
END:STANDARD
BEGIN:DAYLIGHT
TZOFFSETFROM:+0100
TZOFFSETTO:+0200
TZNAME:CEST
DTSTART:20240331T010000
END:DAYLIGHT
BEGIN:STANDARD
TZOFFSETFROM:+0200
TZOFFSETTO:+0100
TZNAME:CET
DTSTART:20241027T010000
END:STANDARD
BEGIN:DAYLIGHT
TZOFFSETFROM:+0100
TZOFFSETTO:+0200
TZNAME:CEST
DTSTART:20250330T010000
END:DAYLIGHT
BEGIN:STANDARD
TZOFFSETFROM:+0200
TZOFFSETTO:+0100
TZNAME:CET
DTSTART:20251026T010000
END:STANDARD
END:VTIMEZONE
BEGIN:VEVENT
DTSTART;TZID=Europe/Berlin:20241102T090000
DTEND;TZID=Europe/Berlin:20241102T180000
DTSTAMP:20260424T004620
CREATED:20241006T110332Z
LAST-MODIFIED:20241006T112703Z
UID:520-1730538000-1730570400@erster-essener-judoclub.de
SUMMARY:Offene Judo-Stadtmeisterschaften 2024
DESCRIPTION:U 11 / U 13 / U 15 männlich / weiblich / Frauen U 18 / Männer U 18 \nVeranstalter: Stadtsportbund Duisburg Fachschaft Judo                     Erik Gruhn\, Emmericher Str. 274 a\, 47138 Duisburg                     Tel.: 0203 339617\, E–Mail: info@judo–duisburg.orgAusrichter:    Polizei–Sportverein Duisburg 1920 e.V. Abteilung JudoZeitplan:       9:00 – 9:30 Uhr Waage U 11 männlich und weiblich                     Die weiteren Waagezeiten werden nach Meldeschluss festgelegt.\nStartberechtigung: U 11/U 13: ab 8. Kyu (weiß–gelb) – nach alter Prüfungsordnung                               U 11/U 13: ab 7. Kyu (gelb) – nach neuer Graduierungsordnung                               U 15/U 18: ab 7. Kyu (gelb)\n\nMatten:                  3 Matten 6 x 6 m + 3 m Sicherheitsfläche
URL:https://erster-essener-judoclub.de/event/offene-judo-stadtmeisterschaften-2024/
LOCATION:Sporthalle der Gesamtschule Duisburg-Süd\, Großenbaumer Allee 168-174\, Duisburg\, NRW\, 47269\, Germany
CATEGORIES:Wettkämpfe
END:VEVENT
BEGIN:VEVENT
DTSTART;TZID=Europe/Berlin:20241110T083000
DTEND;TZID=Europe/Berlin:20241110T180000
DTSTAMP:20260424T004620
CREATED:20241022T110848Z
LAST-MODIFIED:20241105T154512Z
UID:611-1731227400-1731261600@erster-essener-judoclub.de
SUMMARY:Kreispokal Turnier in Nievenheim
DESCRIPTION:Waagezeiten: \nU11 m+w                                  08:30 – 09:15 Uhr \nU 13 m+w +U15 w                    11:15 – 11:45 Uhr \nU 15 m + U18 m+w                  13:00 – 13:30 Uhr \nSenioren m + w                        14:00 – 14:30 Uhr
URL:https://erster-essener-judoclub.de/event/kreispokal-turnier-in-nievenheim/
LOCATION:Dreifachturnhalle an der Bertha-von-Suttner-Gesamtschule\, Marie-Schlei-Str. 6\, 41542 Dormagen-Nievenheim\, Germany
CATEGORIES:Wettkämpfe
END:VEVENT
BEGIN:VEVENT
DTSTART;TZID=Europe/Berlin:20241110T100000
DTEND;TZID=Europe/Berlin:20241110T160000
DTSTAMP:20260424T004620
CREATED:20240928T172937Z
LAST-MODIFIED:20240929T145659Z
UID:480-1731232800-1731254400@erster-essener-judoclub.de
SUMMARY:3. Kampftag der Bezirksliga Männer 2024
DESCRIPTION:Veranstalter: NWJV e.V.\nAusrichter: Judo-Kampfgemeinschaft Essen \nWaage: 10.00 Uhr bis 10.30 Uhr\nKampfbeginn: 11.00 Uhr \nTeilnehmer: Judo-Kampfgemeinschaft Essen (3) in schwarzer Hose und roter Jacke\nKSV Homberg (4)\, Budo Sport Kleverland (8) \nKampfreihenfolge: 4 – 8\, 3 – 4\, 3 – 8
URL:https://erster-essener-judoclub.de/event/3-kampftag-der-bezirksliga-maenner-2024/
LOCATION:Sporthalle Gustav-Hicking-Straße\, Gustav-Hicking-Straße 6\, Essen\, NRW\, 45127\, Germany
CATEGORIES:Liga
END:VEVENT
END:VCALENDAR