BEGIN:VCALENDAR
VERSION:2.0
PRODID:-//1.Essener Judo-Club 1950 e.V. - ECPv6.15.17.1//NONSGML v1.0//EN
CALSCALE:GREGORIAN
METHOD:PUBLISH
X-WR-CALNAME:1.Essener Judo-Club 1950 e.V.
X-ORIGINAL-URL:https://erster-essener-judoclub.de
X-WR-CALDESC:Veranstaltungen für 1.Essener Judo-Club 1950 e.V.
REFRESH-INTERVAL;VALUE=DURATION:PT1H
X-Robots-Tag:noindex
X-PUBLISHED-TTL:PT1H
BEGIN:VTIMEZONE
TZID:Europe/Berlin
BEGIN:DAYLIGHT
TZOFFSETFROM:+0100
TZOFFSETTO:+0200
TZNAME:CEST
DTSTART:20230326T010000
END:DAYLIGHT
BEGIN:STANDARD
TZOFFSETFROM:+0200
TZOFFSETTO:+0100
TZNAME:CET
DTSTART:20231029T010000
END:STANDARD
BEGIN:DAYLIGHT
TZOFFSETFROM:+0100
TZOFFSETTO:+0200
TZNAME:CEST
DTSTART:20240331T010000
END:DAYLIGHT
BEGIN:STANDARD
TZOFFSETFROM:+0200
TZOFFSETTO:+0100
TZNAME:CET
DTSTART:20241027T010000
END:STANDARD
BEGIN:DAYLIGHT
TZOFFSETFROM:+0100
TZOFFSETTO:+0200
TZNAME:CEST
DTSTART:20250330T010000
END:DAYLIGHT
BEGIN:STANDARD
TZOFFSETFROM:+0200
TZOFFSETTO:+0100
TZNAME:CET
DTSTART:20251026T010000
END:STANDARD
END:VTIMEZONE
BEGIN:VEVENT
DTSTART;TZID=Europe/Berlin:20241006T000000
DTEND;TZID=Europe/Berlin:20241006T000000
DTSTAMP:20260424T022825
CREATED:20241006T112643Z
LAST-MODIFIED:20241006T112643Z
UID:517-1728172800-1728172800@erster-essener-judoclub.de
SUMMARY:Offene Stadtmeisterschaft U11 / U13 / U15 / U18 m+w
DESCRIPTION:
URL:https://erster-essener-judoclub.de/event/offene-stadtmeisterschaft-u11-u13-u15-u18-mw/
CATEGORIES:Wettkämpfe
END:VEVENT
BEGIN:VEVENT
DTSTART;TZID=Europe/Berlin:20241011T173000
DTEND;TZID=Europe/Berlin:20241011T193000
DTSTAMP:20260424T022825
CREATED:20241006T111643Z
LAST-MODIFIED:20241006T112615Z
UID:522-1728667800-1728675000@erster-essener-judoclub.de
SUMMARY:Vereinsinterne Gürtelprüfung
DESCRIPTION:Beginn der Prüfung um 17:30 Uhr. \nAlle Prüflinge bitte frühzeitig umgezogen und aufgewärmt sein.
URL:https://erster-essener-judoclub.de/event/vereinsinterne-guertelpruefung/
LOCATION:Sporthalle Schule am Steeler Tor\, Engelbertstr.4\, Essen\, NRW\, 45127\, Germany
CATEGORIES:Gürtelprüfung
END:VEVENT
BEGIN:VEVENT
DTSTART;TZID=Europe/Berlin:20241029T190000
DTEND;TZID=Europe/Berlin:20241029T210000
DTSTAMP:20260424T022825
CREATED:20241007T075745Z
LAST-MODIFIED:20241023T101044Z
UID:536-1730228400-1730235600@erster-essener-judoclub.de
SUMMARY:Kreisversammlung & Kreisjugendversammlung
DESCRIPTION:Veranstalter: Kreis Rhein-Ruhr \nNach der Kreisversammlung findet im Anschluss die Kreisjugendversammlung statt.
URL:https://erster-essener-judoclub.de/event/kreisversammlung-kreisjugendversammlung/
LOCATION:Don-Bosco-Gymnasium\, Theodor-Hartz-Straße 15\, 45355 Essen\, Essen\, Germany
CATEGORIES:Sonstiges
END:VEVENT
END:VCALENDAR