BEGIN:VCALENDAR
VERSION:2.0
PRODID:-//1.Essener Judo-Club 1950 e.V. - ECPv6.15.17.1//NONSGML v1.0//EN
CALSCALE:GREGORIAN
METHOD:PUBLISH
X-ORIGINAL-URL:https://erster-essener-judoclub.de
X-WR-CALDESC:Veranstaltungen für 1.Essener Judo-Club 1950 e.V.
REFRESH-INTERVAL;VALUE=DURATION:PT1H
X-Robots-Tag:noindex
X-PUBLISHED-TTL:PT1H
BEGIN:VTIMEZONE
TZID:Europe/Berlin
BEGIN:DAYLIGHT
TZOFFSETFROM:+0100
TZOFFSETTO:+0200
TZNAME:CEST
DTSTART:20240331T010000
END:DAYLIGHT
BEGIN:STANDARD
TZOFFSETFROM:+0200
TZOFFSETTO:+0100
TZNAME:CET
DTSTART:20241027T010000
END:STANDARD
BEGIN:DAYLIGHT
TZOFFSETFROM:+0100
TZOFFSETTO:+0200
TZNAME:CEST
DTSTART:20250330T010000
END:DAYLIGHT
BEGIN:STANDARD
TZOFFSETFROM:+0200
TZOFFSETTO:+0100
TZNAME:CET
DTSTART:20251026T010000
END:STANDARD
BEGIN:DAYLIGHT
TZOFFSETFROM:+0100
TZOFFSETTO:+0200
TZNAME:CEST
DTSTART:20260329T010000
END:DAYLIGHT
BEGIN:STANDARD
TZOFFSETFROM:+0200
TZOFFSETTO:+0100
TZNAME:CET
DTSTART:20261025T010000
END:STANDARD
END:VTIMEZONE
BEGIN:VEVENT
DTSTART;TZID=Europe/Berlin:20250208T090000
DTEND;TZID=Europe/Berlin:20250208T170000
DTSTAMP:20260423T213828
CREATED:20250122T121333Z
LAST-MODIFIED:20250122T153101Z
UID:792-1739005200-1739034000@erster-essener-judoclub.de
SUMMARY:Bezirkseinzelturnier u13 & Bezirkseinzelmeisterschaften u18
DESCRIPTION:Am 08.02 findet in Neuss sowohl das Bezirkseinzelturnier für Mädchen und Jungen in der Altersklasse u13 als auch die Bezirkseinzelmeisterschaften der Frauen und Männer u18 statt. \nZeitplan: \n9.00 – 9.30 Uhr Waage Männer u18 \nDie übrigen Waagezeiten werden nach Meldeschluss (31.01.2025) bekanntgegeben. \n 
URL:https://erster-essener-judoclub.de/event/bezirkseinzelturnier-u13-bezirkseinzelmeisterschaften-u18/
LOCATION:Sporthalle des Alexander-von-Humboldt-Gymnasiums\, Bergheimerstr. 233\, Neuss\, 41464
END:VEVENT
END:VCALENDAR