BEGIN:VCALENDAR
VERSION:2.0
PRODID:-//1.Essener Judo-Club 1950 e.V. - ECPv6.15.17.1//NONSGML v1.0//EN
CALSCALE:GREGORIAN
METHOD:PUBLISH
X-WR-CALNAME:1.Essener Judo-Club 1950 e.V.
X-ORIGINAL-URL:https://erster-essener-judoclub.de
X-WR-CALDESC:Veranstaltungen für 1.Essener Judo-Club 1950 e.V.
REFRESH-INTERVAL;VALUE=DURATION:PT1H
X-Robots-Tag:noindex
X-PUBLISHED-TTL:PT1H
BEGIN:VTIMEZONE
TZID:Europe/Berlin
BEGIN:DAYLIGHT
TZOFFSETFROM:+0100
TZOFFSETTO:+0200
TZNAME:CEST
DTSTART:20230326T010000
END:DAYLIGHT
BEGIN:STANDARD
TZOFFSETFROM:+0200
TZOFFSETTO:+0100
TZNAME:CET
DTSTART:20231029T010000
END:STANDARD
BEGIN:DAYLIGHT
TZOFFSETFROM:+0100
TZOFFSETTO:+0200
TZNAME:CEST
DTSTART:20240331T010000
END:DAYLIGHT
BEGIN:STANDARD
TZOFFSETFROM:+0200
TZOFFSETTO:+0100
TZNAME:CET
DTSTART:20241027T010000
END:STANDARD
BEGIN:DAYLIGHT
TZOFFSETFROM:+0100
TZOFFSETTO:+0200
TZNAME:CEST
DTSTART:20250330T010000
END:DAYLIGHT
BEGIN:STANDARD
TZOFFSETFROM:+0200
TZOFFSETTO:+0100
TZNAME:CET
DTSTART:20251026T010000
END:STANDARD
END:VTIMEZONE
BEGIN:VEVENT
DTSTART;TZID=Europe/Berlin:20241102T090000
DTEND;TZID=Europe/Berlin:20241102T180000
DTSTAMP:20260424T022903
CREATED:20241006T110332Z
LAST-MODIFIED:20241006T112703Z
UID:520-1730538000-1730570400@erster-essener-judoclub.de
SUMMARY:Offene Judo-Stadtmeisterschaften 2024
DESCRIPTION:U 11 / U 13 / U 15 männlich / weiblich / Frauen U 18 / Männer U 18 \nVeranstalter: Stadtsportbund Duisburg Fachschaft Judo                     Erik Gruhn\, Emmericher Str. 274 a\, 47138 Duisburg                     Tel.: 0203 339617\, E–Mail: info@judo–duisburg.orgAusrichter:    Polizei–Sportverein Duisburg 1920 e.V. Abteilung JudoZeitplan:       9:00 – 9:30 Uhr Waage U 11 männlich und weiblich                     Die weiteren Waagezeiten werden nach Meldeschluss festgelegt.\nStartberechtigung: U 11/U 13: ab 8. Kyu (weiß–gelb) – nach alter Prüfungsordnung                               U 11/U 13: ab 7. Kyu (gelb) – nach neuer Graduierungsordnung                               U 15/U 18: ab 7. Kyu (gelb)\n\nMatten:                  3 Matten 6 x 6 m + 3 m Sicherheitsfläche
URL:https://erster-essener-judoclub.de/event/offene-judo-stadtmeisterschaften-2024/
LOCATION:Sporthalle der Gesamtschule Duisburg-Süd\, Großenbaumer Allee 168-174\, Duisburg\, NRW\, 47269\, Germany
CATEGORIES:Wettkämpfe
END:VEVENT
END:VCALENDAR