BEGIN:VCALENDAR
VERSION:2.0
PRODID:-//1.Essener Judo-Club 1950 e.V. - ECPv6.15.17.1//NONSGML v1.0//EN
CALSCALE:GREGORIAN
METHOD:PUBLISH
X-ORIGINAL-URL:https://erster-essener-judoclub.de
X-WR-CALDESC:Veranstaltungen für 1.Essener Judo-Club 1950 e.V.
REFRESH-INTERVAL;VALUE=DURATION:PT1H
X-Robots-Tag:noindex
X-PUBLISHED-TTL:PT1H
BEGIN:VTIMEZONE
TZID:Europe/Berlin
BEGIN:DAYLIGHT
TZOFFSETFROM:+0100
TZOFFSETTO:+0200
TZNAME:CEST
DTSTART:20230326T010000
END:DAYLIGHT
BEGIN:STANDARD
TZOFFSETFROM:+0200
TZOFFSETTO:+0100
TZNAME:CET
DTSTART:20231029T010000
END:STANDARD
BEGIN:DAYLIGHT
TZOFFSETFROM:+0100
TZOFFSETTO:+0200
TZNAME:CEST
DTSTART:20240331T010000
END:DAYLIGHT
BEGIN:STANDARD
TZOFFSETFROM:+0200
TZOFFSETTO:+0100
TZNAME:CET
DTSTART:20241027T010000
END:STANDARD
BEGIN:DAYLIGHT
TZOFFSETFROM:+0100
TZOFFSETTO:+0200
TZNAME:CEST
DTSTART:20250330T010000
END:DAYLIGHT
BEGIN:STANDARD
TZOFFSETFROM:+0200
TZOFFSETTO:+0100
TZNAME:CET
DTSTART:20251026T010000
END:STANDARD
END:VTIMEZONE
BEGIN:VEVENT
DTSTART;TZID=Europe/Berlin:20241011T173000
DTEND;TZID=Europe/Berlin:20241011T193000
DTSTAMP:20260424T041104
CREATED:20241006T111643Z
LAST-MODIFIED:20241006T112615Z
UID:522-1728667800-1728675000@erster-essener-judoclub.de
SUMMARY:Vereinsinterne Gürtelprüfung
DESCRIPTION:Beginn der Prüfung um 17:30 Uhr. \nAlle Prüflinge bitte frühzeitig umgezogen und aufgewärmt sein.
URL:https://erster-essener-judoclub.de/event/vereinsinterne-guertelpruefung/
LOCATION:Sporthalle Schule am Steeler Tor\, Engelbertstr.4\, Essen\, NRW\, 45127\, Germany
CATEGORIES:Gürtelprüfung
END:VEVENT
END:VCALENDAR