BEGIN:VCALENDAR
VERSION:2.0
PRODID:-//1.Essener Judo-Club 1950 e.V. - ECPv6.15.17.1//NONSGML v1.0//EN
CALSCALE:GREGORIAN
METHOD:PUBLISH
X-WR-CALNAME:1.Essener Judo-Club 1950 e.V.
X-ORIGINAL-URL:https://erster-essener-judoclub.de
X-WR-CALDESC:Veranstaltungen für 1.Essener Judo-Club 1950 e.V.
REFRESH-INTERVAL;VALUE=DURATION:PT1H
X-Robots-Tag:noindex
X-PUBLISHED-TTL:PT1H
BEGIN:VTIMEZONE
TZID:Europe/Berlin
BEGIN:DAYLIGHT
TZOFFSETFROM:+0100
TZOFFSETTO:+0200
TZNAME:CEST
DTSTART:20230326T010000
END:DAYLIGHT
BEGIN:STANDARD
TZOFFSETFROM:+0200
TZOFFSETTO:+0100
TZNAME:CET
DTSTART:20231029T010000
END:STANDARD
BEGIN:DAYLIGHT
TZOFFSETFROM:+0100
TZOFFSETTO:+0200
TZNAME:CEST
DTSTART:20240331T010000
END:DAYLIGHT
BEGIN:STANDARD
TZOFFSETFROM:+0200
TZOFFSETTO:+0100
TZNAME:CET
DTSTART:20241027T010000
END:STANDARD
BEGIN:DAYLIGHT
TZOFFSETFROM:+0100
TZOFFSETTO:+0200
TZNAME:CEST
DTSTART:20250330T010000
END:DAYLIGHT
BEGIN:STANDARD
TZOFFSETFROM:+0200
TZOFFSETTO:+0100
TZNAME:CET
DTSTART:20251026T010000
END:STANDARD
END:VTIMEZONE
BEGIN:VEVENT
DTSTART;TZID=Europe/Berlin:20240928T120000
DTEND;TZID=Europe/Berlin:20240928T160000
DTSTAMP:20260424T084826
CREATED:20240927T180921Z
LAST-MODIFIED:20240927T191438Z
UID:455-1727524800-1727539200@erster-essener-judoclub.de
SUMMARY:2. Kampftag der Landesliga   Düsseldorf 2024
DESCRIPTION:Veranstalter: NWJV e.V.\nAusrichter: PSV Essen e.V. – Abt. Judo \nWaage: 12.00 Uhr bis 12.30 Uhr\nKampfbeginn: 13.00 Uhr \nTeilnehmer: PSV Essen (1) (grün/weißer Judogi)\nPSV Duisburg (2)\nPost SV Düsseldorf III (3) \nKampfreihenfolge: 2 – 3\, 1 – 3\, 1 – 2
URL:https://erster-essener-judoclub.de/event/2-kampftag-der-landesliga-duesseldorf-2024/
LOCATION:Sporthalle Gustav-Hicking-Straße\, Gustav-Hicking-Straße 6\, Essen\, NRW\, 45127\, Germany
CATEGORIES:Liga
END:VEVENT
END:VCALENDAR